BEGIN:VCALENDAR
VERSION:2.0
PRODID:-//Great White Buffalo Brewing Co. - ECPv6.15.20//NONSGML v1.0//EN
CALSCALE:GREGORIAN
METHOD:PUBLISH
X-WR-CALNAME:Great White Buffalo Brewing Co.
X-ORIGINAL-URL:https://greatwhitebuffalobrewingco.com
X-WR-CALDESC:Events for Great White Buffalo Brewing Co.
REFRESH-INTERVAL;VALUE=DURATION:PT1H
X-Robots-Tag:noindex
X-PUBLISHED-TTL:PT1H
BEGIN:VTIMEZONE
TZID:UTC
BEGIN:STANDARD
TZOFFSETFROM:+0000
TZOFFSETTO:+0000
TZNAME:UTC
DTSTART:20250101T000000
END:STANDARD
END:VTIMEZONE
BEGIN:VEVENT
DTSTART;TZID=UTC:20260508T080000
DTEND;TZID=UTC:20260508T170000
DTSTAMP:20260422T171541
CREATED:20260403T164955Z
LAST-MODIFIED:20260403T165304Z
UID:3010-1778227200-1778259600@greatwhitebuffalobrewingco.com
SUMMARY:Next Stop Comedy Show
DESCRIPTION:🎤 Comedy Night at Great White Buffalo! 😂🍻 \nGet ready to laugh out loud at our next Comedy Show at Great White Buffalo Brewing Company! \n🕗 Time: 8PM🎙️ Featuring a lineup of hilarious comedians🍺 Cold brews\, great food\, and nonstop laughs \nBring your friends\, grab a pint\, and let the good times roll — because nothing pairs better with beer than belly laughs! 😄🍻
URL:https://greatwhitebuffalobrewingco.com/event/next-stop-comedy-show/
LOCATION:Great White Buffalo Brewing Co.\, 101 Main Steet\, Northville\, MI\, 48167\, United States
ATTACH;FMTTYPE=image/png:https://greatwhitebuffalobrewingco.com/wp-content/uploads/2025/07/ChatGPT-Image-Feb-28-2026-12_50_20-PM.png
END:VEVENT
BEGIN:VEVENT
DTSTART;TZID=UTC:20260516T110000
DTEND;TZID=UTC:20260516T200000
DTSTAMP:20260422T171541
CREATED:20260327T201853Z
LAST-MODIFIED:20260327T201853Z
UID:3006-1778929200-1778961600@greatwhitebuffalobrewingco.com
SUMMARY:All-Inclusive Tigers Game Day Trip
DESCRIPTION:⚾🍻 GAME DAY JUST GOT AN UPGRADE 🍻⚾ \nHop on board for the ultimate all-inclusive trip with Great White Buffalo Brewing Company as we head to cheer on the Detroit Tigers! \nHere’s the lineup:\n🍺 Kick things off with a cold beer + buffet at the brewery\n🚌 Ride in style with round-trip transportation to the game\n⚾ Enjoy all the action at Comerica Park\n🍻 Celebrate (or commiserate 😅) with a post-game beer back at the brewery \nNo driving. No planning. Just good beer\, great food\, and Tigers baseball with your crew 🙌 \nSpots are limited—grab yours and let’s make it a day to remember! \n#DetroitTigers #GameDay #BreweryTrip #NorthvilleMI #DrinkLocal
URL:https://greatwhitebuffalobrewingco.com/event/all-inclusive-tigers-game-day-trip/
LOCATION:Great White Buffalo Brewing Co.\, 101 Main Steet\, Northville\, MI\, 48167\, United States
ATTACH;FMTTYPE=image/png:https://greatwhitebuffalobrewingco.com/wp-content/uploads/2026/03/1000018845.png
END:VEVENT
BEGIN:VEVENT
DTSTART;TZID=UTC:20260518T180000
DTEND;TZID=UTC:20260518T200000
DTSTAMP:20260422T171541
CREATED:20260403T180417Z
LAST-MODIFIED:20260403T180417Z
UID:3030-1779127200-1779134400@greatwhitebuffalobrewingco.com
SUMMARY:Beer and Candle Making!
DESCRIPTION:Join us for a one-of-a-kind night where craft beer meets creativity! \n✨ Create your own custom candle\n🍻 Enjoy your favorite brews while you pour\n👯‍♀️ Grab your friends for a fun\, relaxed night out \nWhether you’re a candle-making pro or just here for the beer\, this is the perfect way to unwind and try something new. \n  \n🎟️ Spots are limited — reserve yours today!
URL:https://greatwhitebuffalobrewingco.com/event/beer-and-candle-making/
LOCATION:Great White Buffalo Brewing Co.\, 101 Main Steet\, Northville\, MI\, 48167\, United States
ATTACH;FMTTYPE=image/png:https://greatwhitebuffalobrewingco.com/wp-content/uploads/2026/04/1000018923.png
END:VEVENT
BEGIN:VEVENT
DTSTART;TZID=UTC:20260612T080000
DTEND;TZID=UTC:20260612T170000
DTSTAMP:20260422T171541
CREATED:20260403T165043Z
LAST-MODIFIED:20260403T165213Z
UID:3012-1781251200-1781283600@greatwhitebuffalobrewingco.com
SUMMARY:Next Stop Comedy Show
DESCRIPTION:🎤 Comedy Night at Great White Buffalo! 😂🍻 \nGet ready to laugh out loud at our next Comedy Show at Great White Buffalo Brewing Company! \n🕗 Time: 8PM🎙️ Featuring a lineup of hilarious comedians🍺 Cold brews\, great food\, and nonstop laughs \nBring your friends\, grab a pint\, and let the good times roll — because nothing pairs better with beer than belly laughs! 😄🍻
URL:https://greatwhitebuffalobrewingco.com/event/next-stop-comedy-show-2/
LOCATION:Great White Buffalo Brewing Co.\, 101 Main Steet\, Northville\, MI\, 48167\, United States
ATTACH;FMTTYPE=image/png:https://greatwhitebuffalobrewingco.com/wp-content/uploads/2025/07/ChatGPT-Image-Feb-28-2026-12_50_20-PM.png
END:VEVENT
BEGIN:VEVENT
DTSTART;TZID=UTC:20260710T080000
DTEND;TZID=UTC:20260710T170000
DTSTAMP:20260422T171541
CREATED:20260403T165129Z
LAST-MODIFIED:20260403T165444Z
UID:3014-1783670400-1783702800@greatwhitebuffalobrewingco.com
SUMMARY:Next Stop Comedy Show
DESCRIPTION:🎤 Comedy Night at Great White Buffalo! 😂🍻 \nGet ready to laugh out loud at our next Comedy Show at Great White Buffalo Brewing Company! \n🕗 Time: 8PM🎙️ Featuring a lineup of hilarious comedians🍺 Cold brews\, great food\, and nonstop laughs \nBring your friends\, grab a pint\, and let the good times roll — because nothing pairs better with beer than belly laughs! 😄🍻
URL:https://greatwhitebuffalobrewingco.com/event/3014/
LOCATION:Great White Buffalo Brewing Co.\, 101 Main Steet\, Northville\, MI\, 48167\, United States
ATTACH;FMTTYPE=image/png:https://greatwhitebuffalobrewingco.com/wp-content/uploads/2025/07/ChatGPT-Image-Feb-28-2026-12_50_20-PM.png
END:VEVENT
BEGIN:VEVENT
DTSTART;TZID=UTC:20260814T080000
DTEND;TZID=UTC:20260814T170000
DTSTAMP:20260422T171541
CREATED:20260403T165540Z
LAST-MODIFIED:20260403T165540Z
UID:3022-1786694400-1786726800@greatwhitebuffalobrewingco.com
SUMMARY:Next Stop Comedy Show
DESCRIPTION:🎤 Comedy Night at Great White Buffalo! 😂🍻 \nGet ready to laugh out loud at our next Comedy Show at Great White Buffalo Brewing Company! \n🕗 Time: 8PM🎙️ Featuring a lineup of hilarious comedians🍺 Cold brews\, great food\, and nonstop laughs \nBring your friends\, grab a pint\, and let the good times roll — because nothing pairs better with beer than belly laughs! 😄🍻
URL:https://greatwhitebuffalobrewingco.com/event/next-stop-comedy-show-3/
LOCATION:Great White Buffalo Brewing Co.\, 101 Main Steet\, Northville\, MI\, 48167\, United States
ATTACH;FMTTYPE=image/png:https://greatwhitebuffalobrewingco.com/wp-content/uploads/2025/07/ChatGPT-Image-Feb-28-2026-12_50_20-PM.png
END:VEVENT
BEGIN:VEVENT
DTSTART;TZID=UTC:20260911T080000
DTEND;TZID=UTC:20260911T170000
DTSTAMP:20260422T171541
CREATED:20260403T165655Z
LAST-MODIFIED:20260403T165655Z
UID:3025-1789113600-1789146000@greatwhitebuffalobrewingco.com
SUMMARY:Next Stop Comedy Show
DESCRIPTION:🎤 Comedy Night at Great White Buffalo! 😂🍻 \nGet ready to laugh out loud at our next Comedy Show at Great White Buffalo Brewing Company! \n🕗 Time: 8PM🎙️ Featuring a lineup of hilarious comedians🍺 Cold brews\, great food\, and nonstop laughs \nBring your friends\, grab a pint\, and let the good times roll — because nothing pairs better with beer than belly laughs! 😄🍻
URL:https://greatwhitebuffalobrewingco.com/event/next-stop-comedy-show-4/
LOCATION:Great White Buffalo Brewing Co.\, 101 Main Steet\, Northville\, MI\, 48167\, United States
ATTACH;FMTTYPE=image/png:https://greatwhitebuffalobrewingco.com/wp-content/uploads/2025/07/ChatGPT-Image-Feb-28-2026-12_50_20-PM.png
END:VEVENT
BEGIN:VEVENT
DTSTART;TZID=UTC:20261009T080000
DTEND;TZID=UTC:20261009T170000
DTSTAMP:20260422T171541
CREATED:20260403T165758Z
LAST-MODIFIED:20260403T165758Z
UID:3028-1791532800-1791565200@greatwhitebuffalobrewingco.com
SUMMARY:Next Stop Comedy Show
DESCRIPTION:🎤 Comedy Night at Great White Buffalo! 😂🍻 \nGet ready to laugh out loud at our next Comedy Show at Great White Buffalo Brewing Company! \n🕗 Time: 8PM🎙️ Featuring a lineup of hilarious comedians🍺 Cold brews\, great food\, and nonstop laughs \nBring your friends\, grab a pint\, and let the good times roll — because nothing pairs better with beer than belly laughs! 😄🍻
URL:https://greatwhitebuffalobrewingco.com/event/next-stop-comedy-show-5/
LOCATION:Great White Buffalo Brewing Co.\, 101 Main Steet\, Northville\, MI\, 48167\, United States
ATTACH;FMTTYPE=image/png:https://greatwhitebuffalobrewingco.com/wp-content/uploads/2025/07/ChatGPT-Image-Feb-28-2026-12_50_20-PM.png
END:VEVENT
END:VCALENDAR